BEGIN:VCALENDAR
VERSION:2.0
PRODID:-//Chesapeake Bay Landscape Professional Certification - ECPv6.15.20//NONSGML v1.0//EN
CALSCALE:GREGORIAN
METHOD:PUBLISH
X-ORIGINAL-URL:https://cblpro.org
X-WR-CALDESC:Events for Chesapeake Bay Landscape Professional Certification
REFRESH-INTERVAL;VALUE=DURATION:PT1H
X-Robots-Tag:noindex
X-PUBLISHED-TTL:PT1H
BEGIN:VTIMEZONE
TZID:America/New_York
BEGIN:DAYLIGHT
TZOFFSETFROM:-0500
TZOFFSETTO:-0400
TZNAME:EDT
DTSTART:20250309T070000
END:DAYLIGHT
BEGIN:STANDARD
TZOFFSETFROM:-0400
TZOFFSETTO:-0500
TZNAME:EST
DTSTART:20251102T060000
END:STANDARD
BEGIN:DAYLIGHT
TZOFFSETFROM:-0500
TZOFFSETTO:-0400
TZNAME:EDT
DTSTART:20260308T070000
END:DAYLIGHT
BEGIN:STANDARD
TZOFFSETFROM:-0400
TZOFFSETTO:-0500
TZNAME:EST
DTSTART:20261101T060000
END:STANDARD
BEGIN:DAYLIGHT
TZOFFSETFROM:-0500
TZOFFSETTO:-0400
TZNAME:EDT
DTSTART:20270314T070000
END:DAYLIGHT
BEGIN:STANDARD
TZOFFSETFROM:-0400
TZOFFSETTO:-0500
TZNAME:EST
DTSTART:20271107T060000
END:STANDARD
END:VTIMEZONE
BEGIN:VEVENT
DTSTART;TZID=America/New_York:20260512T090000
DTEND;TZID=America/New_York:20260512T150000
DTSTAMP:20260422T042836
CREATED:20260401T131425Z
LAST-MODIFIED:20260401T131425Z
UID:10000498-1778576400-1778598000@cblpro.org
SUMMARY:CBLP Crews Training – Hands-On BMP Maintenance for Landscape Teams\, Chevy Chase MD
DESCRIPTION:Join us on May 12 in Chevy Chase\, MD for this one-day\, in-person training designed for landscape crews and crew leaders responsible for stormwater BMP maintenance. This highly interactive course combines classroom instruction with field exercises to build practical skills in BMP inspection\, plant identification\, invasive species management\, and maintenance planning. \nParticipants will gain real-world experience using maintenance checklists and assessing BMP performance\, with tools and techniques they can apply immediately on the job. \nDiscounted rates for multiple participants from the same organization are as follows: \n1-2 participants = $200 per person \n3+ participants = $185 per person \n5CBLP CEUS \nThis training will be led by English- and Spanish-speaking instructors\, with materials available in both languages. \nIdeal for crews\, contractors\, and public works or facilities staff looking for focused\, foundational maintenance training.
URL:https://cblpro.org/event/cblp-crews-training-hands-on-bmp-maintenance-for-landscape-teams-chevy-chase-md/
CATEGORIES:CCLC / CBLP Events,CEU Opportunity,Training
END:VEVENT
BEGIN:VEVENT
DTSTART;TZID=America/New_York:20260821T090000
DTEND;TZID=America/New_York:20260821T140000
DTSTAMP:20260422T042836
CREATED:20260323T184225Z
LAST-MODIFIED:20260323T194343Z
UID:10000493-1787302800-1787320800@cblpro.org
SUMMARY:CBLP-Shorelines Maryland
DESCRIPTION:Save the Dates for CBLP-Shorelines in MD!  Registration opens by early May. Virginia dates coming soon. \nDay 1 – August 22\, online \nDay 2 – August 26\, Cambridge\, MD \nDay 3 – August 27\, Cambridge\, MD \nDay 4 – September 11\, online
URL:https://cblpro.org/event/cblp-shorelines-maryland-day-1/2026-08-21/
CATEGORIES:CCLC / CBLP Events,CEU Opportunity,Training
END:VEVENT
BEGIN:VEVENT
DTSTART;TZID=America/New_York:20260827T093000
DTEND;TZID=America/New_York:20260827T163000
DTSTAMP:20260422T042836
CREATED:20260323T184225Z
LAST-MODIFIED:20260323T194343Z
UID:10000494-1787823000-1787848200@cblpro.org
SUMMARY:CBLP-Shorelines Maryland
DESCRIPTION:Save the Dates for CBLP-Shorelines in MD!  Registration opens by early May. Virginia dates coming soon. \nDay 1 – August 22\, online \nDay 2 – August 26\, Cambridge\, MD \nDay 3 – August 27\, Cambridge\, MD \nDay 4 – September 11\, online
URL:https://cblpro.org/event/cblp-shorelines-maryland-day-1/2026-08-27/
CATEGORIES:CCLC / CBLP Events,CEU Opportunity,Training
END:VEVENT
BEGIN:VEVENT
DTSTART;TZID=America/New_York:20260828T093000
DTEND;TZID=America/New_York:20260828T160000
DTSTAMP:20260422T042836
CREATED:20260323T184225Z
LAST-MODIFIED:20260323T194343Z
UID:10000495-1787909400-1787932800@cblpro.org
SUMMARY:CBLP-Shorelines Maryland
DESCRIPTION:Save the Dates for CBLP-Shorelines in MD!  Registration opens by early May. Virginia dates coming soon. \nDay 1 – August 22\, online \nDay 2 – August 26\, Cambridge\, MD \nDay 3 – August 27\, Cambridge\, MD \nDay 4 – September 11\, online
URL:https://cblpro.org/event/cblp-shorelines-maryland-day-1/2026-08-28/
CATEGORIES:CCLC / CBLP Events,CEU Opportunity,Training
END:VEVENT
BEGIN:VEVENT
DTSTART;TZID=America/New_York:20260911T090000
DTEND;TZID=America/New_York:20260911T120000
DTSTAMP:20260422T042836
CREATED:20260323T184225Z
LAST-MODIFIED:20260323T194343Z
UID:10000496-1789117200-1789128000@cblpro.org
SUMMARY:CBLP-Shorelines Maryland
DESCRIPTION:Save the Dates for CBLP-Shorelines in MD!  Registration opens by early May. Virginia dates coming soon. \nDay 1 – August 22\, online \nDay 2 – August 26\, Cambridge\, MD \nDay 3 – August 27\, Cambridge\, MD \nDay 4 – September 11\, online
URL:https://cblpro.org/event/cblp-shorelines-maryland-day-1/2026-09-11/
CATEGORIES:CCLC / CBLP Events,CEU Opportunity,Training
END:VEVENT
END:VCALENDAR